BEGIN:VCALENDAR
VERSION:2.0
PRODID:-//wp-events-plugin.com//7.2.3.1//EN
TZID:Europe/Berlin
X-WR-TIMEZONE:Europe/Berlin
BEGIN:VEVENT
UID:2@dgtb.de
DTSTART;TZID=Europe/Berlin;VALUE=DATE:20220923
DTEND;TZID=Europe/Berlin;VALUE=DATE:20220925
DTSTAMP:20220920T142200Z
URL:https://dgtb.de/events/jahrestagung-2022-der-dgtb/
SUMMARY:Jahrestagung der DGTB 2022
DESCRIPTION:Die DGTB Jahrestagung 2022 widmet sich dem Rahmenthema “Techn
 ikunterricht – konkret”.\n\nZeiten:\n\n 	23.09.2022 von 10:00 Uhr (Nac
 hwuchsforum) bzw. 13:00 Uhr bis 19:00 Uhr\n 	24.09.2022 von 09:00 Uhr bis 
 12:30 Uhr\n\nDetails entnehmen Sie bitte dem Tagungsprogramm.\n\nBitte mel
 den Sie Sich vor dem 16.09.2022 an. Spätere Anmeldungen können ggf. nich
 t mehr berücksichtigt werden. Lehrkräfte\, die ausschließlich am 24.09.
 2022 im Rahmen einer Lehrkräftefortbildung teilnehmen\, nutzen bitte die 
 speziell eingerichtete Anmeldung für die Lehrkräftefortbildung.\n\nHinwe
 is: Die in der Anmeldung angegebene E-Mail-Adresse nutzen wir für den Ver
 sand der Zahlungsinformationen und der weiteren Abwicklung Ihrer Anmeldung
 .
CATEGORIES:Jahrestagung der DGTB
LOCATION:Hochschule Reutlingen\, Alteburgstraße 150 (Gebäude 4)\, 72762 R
 eutlingen\, Deutschland
X-APPLE-STRUCTURED-LOCATION;VALUE=URI;X-ADDRESS=Alteburgstraße 150 (Gebäu
 de 4)\, 72762 Reutlingen\, Deutschland;X-APPLE-RADIUS=100;X-TITLE=Hochschu
 le Reutlingen:geo:0,0
END:VEVENT
BEGIN:VTIMEZONE
TZID:Europe/Berlin
X-LIC-LOCATION:Europe/Berlin
BEGIN:DAYLIGHT
DTSTART:20220327T030000
TZOFFSETFROM:+0100
TZOFFSETTO:+0200
TZNAME:CEST
END:DAYLIGHT
END:VTIMEZONE
END:VCALENDAR