BEGIN:VCALENDAR
VERSION:2.0
PRODID:-//wp-events-plugin.com//7.2.3.1//EN
TZID:Europe/Berlin
X-WR-TIMEZONE:Europe/Berlin
BEGIN:VEVENT
UID:4@dgtb.de
DTSTART;TZID=Europe/Berlin;VALUE=DATE:20240918
DTEND;TZID=Europe/Berlin;VALUE=DATE:20240921
DTSTAMP:20240903T142842Z
URL:https://dgtb.de/events/jahrestagung-der-dgtb-2024/
SUMMARY:Jahrestagung der DGTB 2024
DESCRIPTION:Bitte beachten Sie die gestaffelten Preise und den Anmeldeschlu
 ss:\n\n 	Die Tagungsgebühr beträgt bis zum 31.07.2024 75\,00 Euro.\n 	Ab
  August beträgt die Tagungsgebühr 95\,00 Euro.\n 	Am 30.08.2024 wird die
  Anmeldung geschlossen.\n 	Die Bezahlung erfolgt grundsätzlich per Überw
 eisung. Eine Barzahlung auf der Tagung ist nicht möglich.\n\nFür Fragen 
 zur Veranstaltung richten Sie bitte eine E-Mail an tagung@dgtb.de
ATTACH;FMTTYPE=image/jpeg:https://dgtb.de/wp-content/uploads/2023/12/Jahre
 stagung_2024.jpg
CATEGORIES:Jahrestagung der DGTB
LOCATION:Franckesche Stiftungen\, Franckeplatz 1\, Halle\, 09110\, Deutschl
 and
X-APPLE-STRUCTURED-LOCATION;VALUE=URI;X-ADDRESS=Franckeplatz 1\, Halle\, 09
 110\, Deutschland;X-APPLE-RADIUS=100;X-TITLE=Franckesche Stiftungen:geo:0,
 0
END:VEVENT
BEGIN:VTIMEZONE
TZID:Europe/Berlin
X-LIC-LOCATION:Europe/Berlin
BEGIN:DAYLIGHT
DTSTART:20240331T030000
TZOFFSETFROM:+0100
TZOFFSETTO:+0200
TZNAME:CEST
END:DAYLIGHT
END:VTIMEZONE
END:VCALENDAR