BEGIN:VCALENDAR
VERSION:2.0
PRODID:-//wp-events-plugin.com//7.2.3.1//EN
TZID:Europe/Berlin
X-WR-TIMEZONE:Europe/Berlin
BEGIN:VEVENT
UID:5@dgtb.de
DTSTART;TZID=Europe/Berlin;VALUE=DATE:20250918
DTEND;TZID=Europe/Berlin;VALUE=DATE:20250920
DTSTAMP:20250904T093122Z
URL:https://dgtb.de/events/jahrestagung-der-dgtb-2025/
SUMMARY:Jahrestagung der DGTB 2025
DESCRIPTION:Bitte beachten Sie bei Anmeldung die folgenden Informationen:\n
 \n 	Die Anmeldung zur Tagung ist nur über dieses Portal und nur bis zum 3
 1.08.2025 möglich.\n 	Die Bezahlung erfolgt grundsätzlich per Überweisu
 ng (Zahlungsdaten erhalten Sie automatisch nach Buchung per E-Mail).\n 	Ei
 ne Barzahlung auf der Tagung ist nicht vorgesehen.\n\n\n\n\nTagungsgebühr
 en:\n\nWir möchten allen Interessierten die Teilnahme ermöglichen und se
 hen daher nach solidarischen Gesichtspunkten gestaffelte Tagungsgebüren v
 or:\n\n 	Frühere Buchungen erleichtern uns die Organisation und sind desh
 alb günstiger.\n 	DGTB-Mitglieder erhalten einen Rabatt.\n 	Wer die Tagun
 gsgebühren "aus eigener Tasche" zahlen muss und sich damit finanziell bes
 onders belastet sieht\, kann eine ermäßigte Tagungsgebühr in Höhe von 
 pauschal 40\,00 Euro bzw. 55\,00 Euro (je nach Zeitpunkt der Anmeldung und
  unabhängig von der DGTB-Mitgliedschaft) in Anspruch nehmen. Bitte buchen
  Sie dazu zunächst ein reguläres Ticket und geben unten im Anmeldeformul
 ar an\, warum Sie um die Ermäßigung bitten. Sie erhalten dann zeitnah ei
 ne Antwort mit einer neuen Kostenaufstellung. Bitte überweisen Sie erst d
 anach den entsprechenden Betrag.\n\n\n\n\nTagungsgebühr\nbis 31.07.2025\n
 ab 15.08.2025\n\n\nreguläre Tagungsgebühr\n85\,00 Euro\n100\,00 Euro\n\n
 \nTagungsgebühr für DGTB-Mitglieder\n70\,00 Euro\n85\,00 Euro\n\n\nermä
 ßigte Tagungsgebühr für Selbstzahlende\n40\,00 Euro\n55\,00 Euro\n\n\n\
 nIn allen Varianten ist ein Mittagessen am 18.09.2025 (auch mit vegetarisc
 hem und veganem Angebot) enthalten.\n\n\n\nFür weitere Fragen zur Veranst
 altung richten Sie bitte eine E-Mail an tagung@dgtb.de\n\n\n\n&nbsp\;
ATTACH;FMTTYPE=image/jpeg:https://dgtb.de/wp-content/uploads/2024/11/Tagun
 g_Anzeige_2025_16-9.jpg
CATEGORIES:Jahrestagung der DGTB
LOCATION:Industriemuseum Chemnitz\, Zwickauer Straße 119\, Chemnitz\, 0911
 2\, Deutschland
X-APPLE-STRUCTURED-LOCATION;VALUE=URI;X-ADDRESS=Zwickauer Straße 119\, Che
 mnitz\, 09112\, Deutschland;X-APPLE-RADIUS=100;X-TITLE=Industriemuseum Che
 mnitz:geo:0,0
END:VEVENT
BEGIN:VTIMEZONE
TZID:Europe/Berlin
X-LIC-LOCATION:Europe/Berlin
BEGIN:DAYLIGHT
DTSTART:20250330T030000
TZOFFSETFROM:+0100
TZOFFSETTO:+0200
TZNAME:CEST
END:DAYLIGHT
END:VTIMEZONE
END:VCALENDAR